BEGIN:VCALENDAR
VERSION:2.0
PRODID:-//wp-events-plugin.com//7.2.3.1//EN
TZID:Europe/Zurich
X-WR-TIMEZONE:Europe/Zurich
BEGIN:VEVENT
UID:2-14@virginram.com
DTSTART;TZID=Europe/Zurich:20261017T200000
DTEND;TZID=Europe/Zurich:20261017T234500
DTSTAMP:20260301T145735Z
URL:https://virginram.com/events/virgin-ram/
SUMMARY:Virgin Ram/
DESCRIPTION:
LOCATION:Rockfact Münchenstein\, Tramstrasse 66\, 4142 Münchenstein\, Mü
 nchenstein\, 4142\, Schweiz
GEO:47.508694;7.615821
X-APPLE-STRUCTURED-LOCATION;VALUE=URI;X-ADDRESS=Tramstrasse 66\, 4142 Münc
 henstein\, Münchenstein\, 4142\, Schweiz;X-APPLE-RADIUS=100;X-TITLE=Rockf
 act Münchenstein:geo:47.508694,7.615821
END:VEVENT
BEGIN:VTIMEZONE
TZID:Europe/Zurich
X-LIC-LOCATION:Europe/Zurich
BEGIN:DAYLIGHT
DTSTART:20260329T030000
TZOFFSETFROM:+0100
TZOFFSETTO:+0200
TZNAME:CEST
END:DAYLIGHT
END:VTIMEZONE
END:VCALENDAR