BEGIN:VCALENDAR
VERSION:2.0
PRODID:-//wp-events-plugin.com//7.2.3.1//EN
TZID:Europe/Zurich
X-WR-TIMEZONE:Europe/Zurich
BEGIN:VEVENT
UID:2-18@virginram.com
DTSTART;TZID=Europe/Zurich:20260926T190000
DTEND;TZID=Europe/Zurich:20260926T235500
DTSTAMP:20260321T094902Z
URL:https://virginram.com/events/virgin-ram-royal-ugly-dude-schurkin-hellw
 olf/
SUMMARY:Virgin Ram/Royal Ugly Dude/Schurkin @ Hellwolf
DESCRIPTION:
ATTACH;FMTTYPE=image/jpeg:https://virginram.com/wp-content/uploads/sites/2
 /2026/03/IMG-20260225-WA0004.jpg
LOCATION:Verein AufFall\, Auf dem Wolf 32\, Basel\, 4052\, 
X-APPLE-STRUCTURED-LOCATION;VALUE=URI;X-ADDRESS=Auf dem Wolf 32\, Basel\, 4
 052\, ;X-APPLE-RADIUS=100;X-TITLE=Verein AufFall:geo:0,0
END:VEVENT
BEGIN:VTIMEZONE
TZID:Europe/Zurich
X-LIC-LOCATION:Europe/Zurich
BEGIN:DAYLIGHT
DTSTART:20260329T030000
TZOFFSETFROM:+0100
TZOFFSETTO:+0200
TZNAME:CEST
END:DAYLIGHT
END:VTIMEZONE
END:VCALENDAR