BEGIN:VCALENDAR
VERSION:2.0
PRODID:-//wp-events-plugin.com//7.2.3.1//EN
TZID:Europe/Zurich
X-WR-TIMEZONE:Europe/Zurich
BEGIN:VEVENT
UID:2-11@virginram.com
DTSTART;TZID=Europe/Zurich:20260314T200000
DTEND;TZID=Europe/Zurich:20260314T234500
DTSTAMP:20260301T150448Z
URL:https://virginram.com/events/virgin-ram-receycler-live/
SUMMARY:Virgin Ram & Receycler Live
DESCRIPTION:
ATTACH;FMTTYPE=image/jpeg:https://virginram.com/wp-content/uploads/sites/2
 /2026/03/phoenix-26.jpg
LOCATION:Phönix Rockkeller Muttenz\, Junkermattstrasse 8\, Muttenz\, Basel
 land\, 4132\, BL\, Schweiz
GEO:47.531703;7.650399
X-APPLE-STRUCTURED-LOCATION;VALUE=URI;X-ADDRESS=Junkermattstrasse 8\, Mutte
 nz\, Baselland\, 4132\, BL\, Schweiz;X-APPLE-RADIUS=100;X-TITLE=Phönix Ro
 ckkeller Muttenz:geo:47.531703,7.650399
END:VEVENT
BEGIN:VTIMEZONE
TZID:Europe/Zurich
X-LIC-LOCATION:Europe/Zurich
BEGIN:STANDARD
DTSTART:20251026T020000
TZOFFSETFROM:+0200
TZOFFSETTO:+0100
TZNAME:CET
END:STANDARD
END:VTIMEZONE
END:VCALENDAR