BEGIN:VCALENDAR
VERSION:2.0
PRODID:-//wp-events-plugin.com//7.2.3.1//EN
TZID:Europe/Zurich
X-WR-TIMEZONE:Europe/Zurich
BEGIN:VEVENT
UID:2-12@virginram.com
DTSTART;TZID=Europe/Zurich:20260508T200000
DTEND;TZID=Europe/Zurich:20260508T230000
DTSTAMP:20260408T163956Z
URL:https://virginram.com/events/virgin-ram-live/
SUMMARY:Virgin Ram Live @ Henrys
DESCRIPTION:
ATTACH;FMTTYPE=image/jpeg:https://virginram.com/wp-content/uploads/sites/2
 /2026/03/file_00000000985c720aab2d0b3788b7db4d.png
LOCATION:Henry's Live Music & Sport Bar Baden\,  Schlossbergpl. 4\, Baden\,
  5400\, Schweiz
GEO:47.473984;8.307172
X-APPLE-STRUCTURED-LOCATION;VALUE=URI;X-ADDRESS= Schlossbergpl. 4\, Baden\,
  5400\, Schweiz;X-APPLE-RADIUS=100;X-TITLE=Henry's Live Music & Sport Bar 
 Baden:geo:47.473984,8.307172
END:VEVENT
BEGIN:VTIMEZONE
TZID:Europe/Zurich
X-LIC-LOCATION:Europe/Zurich
BEGIN:DAYLIGHT
DTSTART:20260329T030000
TZOFFSETFROM:+0100
TZOFFSETTO:+0200
TZNAME:CEST
END:DAYLIGHT
END:VTIMEZONE
END:VCALENDAR