BEGIN:VCALENDAR
VERSION:2.0
PRODID:-//wp-events-plugin.com//7.2.3.1//EN
TZID:Europe/Zurich
X-WR-TIMEZONE:Europe/Zurich
BEGIN:VEVENT
UID:2-13@virginram.com
DTSTART;TZID=Europe/Zurich:20260815T200000
DTEND;TZID=Europe/Zurich:20260815T230000
DTSTAMP:20260321T171910Z
URL:https://virginram.com/events/virgin-ram-live-long-riders-bikerparty-ro
 ggenburg/
SUMMARY:Virgin Ram Live @ Long Riders Bikerparty Roggenburg
DESCRIPTION:
ATTACH;FMTTYPE=image/jpeg:https://virginram.com/wp-content/uploads/sites/2
 /2026/03/IMG-20260310-WA0008.jpg
LOCATION:MBLR Roggenburg Bikerparty\, Stelliweg 8\, Roggenburg\, 2814\, Sch
 weiz
GEO:47.428352;7.347827
X-APPLE-STRUCTURED-LOCATION;VALUE=URI;X-ADDRESS=Stelliweg 8\, Roggenburg\, 
 2814\, Schweiz;X-APPLE-RADIUS=100;X-TITLE=MBLR Roggenburg Bikerparty:geo:4
 7.428352,7.347827
END:VEVENT
BEGIN:VTIMEZONE
TZID:Europe/Zurich
X-LIC-LOCATION:Europe/Zurich
BEGIN:DAYLIGHT
DTSTART:20260329T030000
TZOFFSETFROM:+0100
TZOFFSETTO:+0200
TZNAME:CEST
END:DAYLIGHT
END:VTIMEZONE
END:VCALENDAR