BEGIN:VCALENDAR
VERSION:2.0
PRODID:-//wp-events-plugin.com//7.2.3.1//EN
TZID:Europe/Zurich
X-WR-TIMEZONE:Europe/Zurich
BEGIN:VEVENT
UID:2-16@virginram.com
DTSTART;TZID=Europe/Zurich:20260425T200000
DTEND;TZID=Europe/Zurich:20260425T233000
DTSTAMP:20260405T165517Z
URL:https://virginram.com/events/virgin-ram-ewel-rowdies/
SUMMARY:Virgin Ram @ Ewel Rowdies
DESCRIPTION:
ATTACH;FMTTYPE=image/jpeg:https://virginram.com/wp-content/uploads/sites/2
 /2026/03/IMG-20260329-WA0011.jpg
LOCATION:Clublokal EwelRodies MC\, Gewerbestrasse 6\, Gommiswald\, 8737\, S
 chweiz
X-APPLE-STRUCTURED-LOCATION;VALUE=URI;X-ADDRESS=Gewerbestrasse 6\, Gommiswa
 ld\, 8737\, Schweiz;X-APPLE-RADIUS=100;X-TITLE=Clublokal EwelRodies MC:geo
 :0,0
END:VEVENT
BEGIN:VTIMEZONE
TZID:Europe/Zurich
X-LIC-LOCATION:Europe/Zurich
BEGIN:DAYLIGHT
DTSTART:20260329T030000
TZOFFSETFROM:+0100
TZOFFSETTO:+0200
TZNAME:CEST
END:DAYLIGHT
END:VTIMEZONE
END:VCALENDAR