BEGIN:VCALENDAR
VERSION:2.0
PRODID:-//wp-events-plugin.com//7.2.3.1//EN
TZID:Europe/Zurich
X-WR-TIMEZONE:Europe/Zurich
BEGIN:VEVENT
UID:2-2@virginram.com
DTSTART;TZID=Europe/Zurich:20240927T200000
DTEND;TZID=Europe/Zurich:20240927T230000
DTSTAMP:20240927T062826Z
URL:https://virginram.com/events/virgin-ram-doerfli-muenchenstein/
SUMMARY:Virgin Ram @ Dörfli Münchenstein
DESCRIPTION:
ATTACH;FMTTYPE=image/jpeg:https://virginram.com/wp-content/uploads/sites/2
 /2024/09/Konzert-scaled.jpg
LOCATION:Dörfli Münchenstein\, Reinacherstrasse 3\, Münchenstein\, Basel
 land\, 4142\, Schweiz
GEO:47.5302;7.605843
X-APPLE-STRUCTURED-LOCATION;VALUE=URI;X-ADDRESS=Reinacherstrasse 3\, Münch
 enstein\, Baselland\, 4142\, Schweiz;X-APPLE-RADIUS=100;X-TITLE=Dörfli M
 ünchenstein:geo:47.5302,7.605843
END:VEVENT
BEGIN:VTIMEZONE
TZID:Europe/Zurich
X-LIC-LOCATION:Europe/Zurich
BEGIN:DAYLIGHT
DTSTART:20240331T030000
TZOFFSETFROM:+0100
TZOFFSETTO:+0200
TZNAME:CEST
END:DAYLIGHT
END:VTIMEZONE
END:VCALENDAR